BEGIN:VCALENDAR
PRODID:-//AT Content Types//AT Event//EN
VERSION:2.0
METHOD:PUBLISH
BEGIN:VEVENT
DTSTAMP:20260421T102105Z
CREATED:20151229T115551Z
UID:ATEvent-224ef5d83c0c4305be71b3aab63096f4
LAST-MODIFIED:20151229T120307Z
SUMMARY:Indian language Wikipedias in the classroom: Wikipedia workshop at SVERI\, Pandharpur
DTSTART:20151215T100000Z
DTEND:20151216T050000Z
DESCRIPTION:A Wikipedia workshop is being organised at Shri Vitthal Ed
 ucation and Research Institute (SVERI)\, Pandharpur\, Maharashtra duri
 ng this 15th-16th.
LOCATION:Premier Institute Of Computer Studies (PICS)\, Puri\, Odisha
CATEGORIES:Higher Education, CIS-A2K, Hindi Wikipedia, Marathi Wikipedia
CONTACT:Sailesh Patnaik
CLASS:PUBLIC
END:VEVENT
END:VCALENDAR
