BEGIN:VCALENDAR
PRODID:-//AT Content Types//AT Event//EN
VERSION:2.0
METHOD:PUBLISH
BEGIN:VEVENT
DTSTAMP:20260421T085037Z
CREATED:20170420T165043Z
UID:ATEvent-d535a1acf7e948ef82702af889680a52
LAST-MODIFIED:20170420T165335Z
SUMMARY:NASA Space Apps Challenge 2017
DTSTART:20170422T160000Z
DTEND:20170422T190000Z
DESCRIPTION:The NASA Space Data Challenge (Hillhacks Pre-event) will b
 e hosted at the Centre for Internet & Society's Bengaluru office on Sa
 turday\, April 22\, 2017 from 4 p.m. to 7 p.m.
LOCATION:The Centre for Internet & Society\, No. 194\, 2nd C Cross\, Domlur 2nd Stage\, Bengaluru - 560071 (Near to Domlur Club and TERI Complex)
CATEGORIES:Space Apps, Openness, Open Science, Event
CONTACT:Sharath Chandra R\, sharath@cis-india.org
URL:https://2017.spaceappschallenge.org/locations/bangalore/pre-event/
CLASS:PUBLIC
END:VEVENT
END:VCALENDAR
