BEGIN:VCALENDAR
PRODID:-//AT Content Types//AT Event//EN
VERSION:1.0
BEGIN:VEVENT
DTSTART:20190403T180000Z
DTEND:20190403T200000Z
DCREATED:20190328T090015Z
UID:ATEvent-2df99e1729ad468b855163ad8f27e654
SEQUENCE:0
LAST-MODIFIED:20190329T054244Z
SUMMARY:What is IFF? A model for digital rights advocacy in India
LOCATION:The Centre for Internet and Society\, Bangalore: No. 194\, 2nd ‘C’ Cross\, Domlur\, 2nd Stage\, Bengaluru\, 560071
PRIORITY:3
TRANSP:0
END:VEVENT
END:VCALENDAR
