BEGIN:VCALENDAR
PRODID:-//AT Content Types//AT Event//EN
VERSION:2.0
METHOD:PUBLISH
BEGIN:VEVENT
DTSTAMP:20260419T153157Z
CREATED:20110802T084922Z
UID:ATEvent-b4079b71d88b5533d13c5e15d435e331
LAST-MODIFIED:20110922T101728Z
SUMMARY:'Privacy Matters' Chennai
DTSTART:20110806T040000Z
DTEND:20110806T113000Z
DESCRIPTION:Privacy India invites individuals to attend “Privacy Mat
 ters”\, a one day conference on August 6th 2011 at the Madras Instit
 ute of Development Studies\, Chennai. Privacy India\, Society in Actio
 n Group\, IDRC\, the Centre for Internet & Society\, Citizen consumer 
 and civic Action Group\,  and Madras Institute of Development Studies\
 , Chennai have joined hands to organize this event.
LOCATION:Madras Institute of Development Studies
CLASS:PUBLIC
END:VEVENT
END:VCALENDAR
