BEGIN:VCALENDAR
PRODID:-//AT Content Types//AT Event//EN
VERSION:2.0
METHOD:PUBLISH
BEGIN:VEVENT
DTSTAMP:20260421T114823Z
CREATED:20150206T024643Z
UID:ATEvent-c7b6346c6c6741f48089548636bbce08
LAST-MODIFIED:20150308T052534Z
SUMMARY:Digital Security Workshop for Journalists
DTSTART:20150207T093000Z
DTEND:20150207T133000Z
DESCRIPTION:The Centre for Internet and Society and the Mumbai Press C
 lub are jointly organizing a workshop for journalists on February 7\, 
 2015\, from 9.30 a.m. to 1.30 p.m. at Mumbai Press Club\, Azad Maidan.
 
LOCATION:Mumbai Press Club\, Azad Maidan
CATEGORIES:Digital Security, Workshop, Event, Internet Governance
CONTACT:Rohini Lakshane\, rohini@cis-india.org
CLASS:PUBLIC
END:VEVENT
END:VCALENDAR
