BEGIN:VCALENDAR
PRODID:-//AT Content Types//AT Event//EN
VERSION:2.0
METHOD:PUBLISH
BEGIN:VEVENT
DTSTAMP:20260420T085152Z
CREATED:20160127T134528Z
UID:ATEvent-e1be846840454faaae5bd5301dc210ed
LAST-MODIFIED:20160127T135106Z
SUMMARY:Public Debate on 'Differential Pricing': Series 1
DTSTART:20160201T180000Z
DTEND:20160201T200000Z
DESCRIPTION:The Centre for Internet and Society\, in association with 
 ICRIER and the Department of Civics and Politics\, University of Mumba
 i\, is pleased to announce “A Series of Public Debates on Differenti
 al Pricing” in the cities of Bangalore\, Mumbai and New Delhi. The f
 irst public debate will be held at the Centre for Internet & Society o
 ffice in Bangalore on February 1\, 2016.
LOCATION:The Centre for Internet & Society\, No.194\, 2nd 'C' Cross\, Domlur\, 2nd Stage\, Bangalore 560071 (Near to TERI Complex and Domlur Club)
CATEGORIES:Freedom of Speech and Expression, Telecom, Event, Internet Governance
CONTACT:Vidushi Marda\, vidushi@cis-india.org
CLASS:PUBLIC
END:VEVENT
END:VCALENDAR
