BEGIN:VCALENDAR
PRODID:-//AT Content Types//AT Event//EN
VERSION:2.0
METHOD:PUBLISH
BEGIN:VEVENT
DTSTAMP:20260420T233617Z
CREATED:20101229T051236Z
UID:ATEvent-e615b8d89211dce487dee91137c921d3
LAST-MODIFIED:20110404T072224Z
SUMMARY:Privacy matters
DTSTART:20110123T050000Z
DTEND:20110123T130000Z
DESCRIPTION:Privacy India invites individuals to attend “Privacy Mat
 ters”\, a one-day conference on 23 January 2011 at the WB National U
 niversity of Juridical Sciences (NUJS) Law School in Kolkata.  Privacy
  India\, Society in Action Group and the Centre for Internet & Society
  have joined hands to organize this.
CATEGORIES:Internet Governance
CONTACT:Elonnai Hickok\, elonnai@privacyindia.org
CLASS:PUBLIC
END:VEVENT
END:VCALENDAR
