BEGIN:VCALENDAR
PRODID:-//AT Content Types//AT Event//EN
VERSION:2.0
METHOD:PUBLISH
BEGIN:VEVENT
DTSTAMP:20260421T101909Z
CREATED:20110919T101057Z
UID:ATEvent-ff2ce02b-1245-4fcb-8e4b-c4b58b260cf6
LAST-MODIFIED:20111013T011426Z
SUMMARY:Open Spectrum for Development in the Context of the Digital Migration
DTSTART:20110929T110000Z
DTEND:20110929T123000Z
LOCATION:Nairobi
CATEGORIES:Telecom
CLASS:PUBLIC
END:VEVENT
END:VCALENDAR
