BEGIN:VCALENDAR
PRODID:-//AT Content Types//AT Event//EN
VERSION:2.0
METHOD:PUBLISH
BEGIN:VEVENT
DTSTAMP:20260424T070548Z
CREATED:20090319T121655Z
UID:ATEvent-6e5e24f8d63028effddc925a731f0024
LAST-MODIFIED:20110405T043939Z
SUMMARY:Open Access to Science Publications--Policy Perspective\, Opportunities and Challenges
DTSTART:20090324T033000Z
DTEND:20090324T120000Z
DESCRIPTION:One-day conference on Open Access
LOCATION:India Habitat Centre\, New Delhi
CATEGORIES:Openness
CONTACT:Dr Naresh Kumar\, (+91) 11 23710453\, 23713011
CLASS:PUBLIC
END:VEVENT
END:VCALENDAR
