BEGIN:VCALENDAR
PRODID:-//AT Content Types//AT Event//EN
VERSION:1.0
BEGIN:VEVENT
DTSTART:20140309T153000Z
DTEND:20140309T180000Z
DCREATED:20140305T102637Z
UID:ATEvent-89a57c4e849040c785718b03c24731b7
SEQUENCE:0
LAST-MODIFIED:20140305T103757Z
SUMMARY:Wiki Women's Workshop
DESCRIPTION:As part of the commemoration of the International Women's 
 Day\, International Centre Goa (ICG) in association with the Centre fo
 r Internet & Society’s Access to Knowledge team is organising a Wiki
  Women’s Workshop on Sunday\, March 9\, 2014 from 3.30 p.m. to 6.00 
 p.m. at ICG  – Dona Paula.
LOCATION:International Centre Goa\, Dr. E Borges Road\, Dona Paula – Goa 403 004
PRIORITY:3
TRANSP:0
END:VEVENT
END:VCALENDAR
