BEGIN:VCALENDAR
PRODID:-//AT Content Types//AT Event//EN
VERSION:1.0
BEGIN:VEVENT
DTSTART:20100916T113000Z
DTEND:20100916T133000Z
DCREATED:20100913T054222Z
UID:ATEvent-efac72b94e3ff82b9983652821074b3d
SEQUENCE:0
LAST-MODIFIED:20110422T074120Z
SUMMARY:A Talk by Charlotte Lapsansky
DESCRIPTION:Charlotte Lapsansky will give a lecture on the "Mobile Voi
 ces project" at the Centre for Internet and Society\, Bangalore on Thu
 rsday\, 16 September 2010.
LOCATION:Centre for Internet and Society\, Bangalore
PRIORITY:3
TRANSP:0
END:VEVENT
END:VCALENDAR
