BEGIN:VCALENDAR
PRODID:-//AT Content Types//AT Event//EN
VERSION:1.0
BEGIN:VEVENT
DTSTART:20131116T110000Z
DTEND:20131116T120000Z
DCREATED:20131114T051551Z
UID:ATEvent-04accafe1998405fbe7380239babf49d
SEQUENCE:0
LAST-MODIFIED:20131114T051607Z
SUMMARY:Wikipedia Orientation Programme for the Second Language Students of Christ University
DESCRIPTION:The Centre for Internet and Society's Access to Knowledge 
 team will organize an Orientation Workshop entitled on Wikipedia for t
 he undergraduate language students of the Christ University\, Bangalor
 e on November 16\, 2013.
LOCATION:Christ University\, Bangalore
PRIORITY:3
TRANSP:0
END:VEVENT
END:VCALENDAR
