BEGIN:VCALENDAR
PRODID:-//AT Content Types//AT Event//EN
VERSION:1.0
BEGIN:VEVENT
DTSTART:20181002T100000Z
DTEND:20181005T173000Z
DCREATED:20181106T013531Z
UID:ATEvent-da411fe9124e4c3bbca165d09e7c7d27
SEQUENCE:0
LAST-MODIFIED:20181106T013639Z
SUMMARY:Van Bodh Workshop for content development on Forest Resources at Gadchiroli
DESCRIPTION:CIS-A2K has collaborated with Tribal Research and Training
  Institute (TRTI) to facilitate development of Open knowledge resource
 s on Community Forest Resource and content development in Wikimedia pr
 ojects with community participation. These contents will become a part
  of "Van Bodh Knowledge repository".
LOCATION:Village Mendha (Lekha) in Gadchiroli district of Maharashtra
PRIORITY:3
TRANSP:0
END:VEVENT
END:VCALENDAR
